BEGIN:VCALENDAR
VERSION:2.0
PRODID:-//eventon.com NONSGML v1.0//EN
CALSCALE:GREGORIAN
METHOD:PUBLISH
BEGIN:VEVENT
UID:69ecdb68efd79
DTSTAMP:20260425T151904Z
DTSTART:20260816T000000Z
DTEND:20260816T045900Z
LOCATION:The PAV (Pavilion at Wolf Lake Memorial Park) 2324 Calumet Ave\,  Hammond\,  IN 46320
SUMMARY:KASHMIR
DESCRIPTION:\nhttps://www.gohammond.com/events/kashmir-2026/
URL:https://www.gohammond.com/events/kashmir-2026/
END:VEVENT
END:VCALENDAR