BEGIN:VCALENDAR
VERSION:2.0
PRODID:-//eventon.com NONSGML v1.0//EN
CALSCALE:GREGORIAN
METHOD:PUBLISH
BEGIN:VEVENT
UID:69e6472e45297
DTSTAMP:20260420T153302Z
DTSTART:20260726T000000Z
DTEND:20260726T045900Z
LOCATION:The PAV (Pavilion at Wolf Lake Memorial Park) 2324 Calumet Ave\,  Hammond\,  IN 46320
SUMMARY:Secondhand News
DESCRIPTION:\nhttps://www.gohammond.com/events/secondhand-news-072526/
URL:https://www.gohammond.com/events/secondhand-news-072526/
END:VEVENT
END:VCALENDAR