BEGIN:VCALENDAR
VERSION:2.0
PRODID:-//eventon.com NONSGML v1.0//EN
CALSCALE:GREGORIAN
METHOD:PUBLISH
BEGIN:VEVENT
UID:69e646db37a48
DTSTAMP:20260420T153139Z
DTSTART:20260627T000000Z
DTEND:20260627T045900Z
LOCATION:The PAV (Pavilion at Wolf Lake Memorial Park) 2324 Calumet Ave\,  Hammond\,  IN 46320
SUMMARY:Freestyle & House Party
DESCRIPTION:\nhttps://www.gohammond.com/events/freestyle-house-party-062626
 /
URL:https://www.gohammond.com/events/freestyle-house-party-062626/
END:VEVENT
END:VCALENDAR