BEGIN:VCALENDAR
VERSION:2.0
PRODID:-//eventon.com NONSGML v1.0//EN
CALSCALE:GREGORIAN
METHOD:PUBLISH
BEGIN:VEVENT
UID:69e6468d1cdce
DTSTAMP:20260420T153021Z
DTSTART:20260621T000000Z
DTEND:20260621T045900Z
LOCATION:The PAV (Pavilion at Wolf Lake Memorial Park) 2324 Calumet Ave\,  Hammond\,  IN 46320
SUMMARY:Sounds of Simon & Garfunkel
DESCRIPTION:\nhttps://www.gohammond.com/events/sounds-of-simon-garfunkel-06
 2026/
URL:https://www.gohammond.com/events/sounds-of-simon-garfunkel-062026/
END:VEVENT
END:VCALENDAR