BEGIN:VCALENDAR
VERSION:2.0
PRODID:-//eventon.com NONSGML v1.0//EN
CALSCALE:GREGORIAN
METHOD:PUBLISH
BEGIN:VEVENT
UID:69e62f28ece47
DTSTAMP:20260420T135032Z
DTSTART:20260416T180000Z
DTEND:20260417T045900Z
LOCATION:
SUMMARY:Downtown Train Station Groudbreaking
DESCRIPTION:Mayor Thomas M. McDermott\,  Jr. and the City of Hammond invite
  you to join us for the groundbreakingof the new downtown Hammond train sta
 tion on Thursday\,  April 16 th at 1:00PM. Please join MayorMcDermott and h
 is staff as they celebrate this exciting new development for Hammond’s do
 wntown. The new train[..]\nhttps://www.gohammond.com/events/downtown-train-
 station-groudbreaking/
URL:https://www.gohammond.com/events/downtown-train-station-groudbreaking/
END:VEVENT
END:VCALENDAR