BEGIN:VCALENDAR
VERSION:2.0
PRODID:-//eventon.com NONSGML v1.0//EN
CALSCALE:GREGORIAN
METHOD:PUBLISH
BEGIN:VEVENT
UID:69ece6a49be7f
DTSTAMP:20260425T160700Z
DTSTART:20251120T170000Z
DTEND:20251120T180000Z
LOCATION:Hammond Sportsplex 6630 Indianapolis Blvd\,  Hammond\,  IN 46320
SUMMARY:Sportsplex Expansion Ribbon Cutting
DESCRIPTION:Mayor Thomas M. McDermott\,  Jr. and the City of Hammond proudl
 y announce the official ribbon cutting for the newly expanded Hammond Sport
 splex on Thursday\,  November 20th at 11:00 a.m. The ceremony will celebrat
 e the continued growth and success of the facility\,  which originally open
 ed in 2018 and has quickly become[..]\nhttps://www.gohammond.com/events/spo
 rtsplex-expansion-ribbon-cutting/
URL:https://www.gohammond.com/events/sportsplex-expansion-ribbon-cutting/
END:VEVENT
END:VCALENDAR