BEGIN:VCALENDAR
VERSION:2.0
PRODID:-//eventon.com NONSGML v1.0//EN
CALSCALE:GREGORIAN
METHOD:PUBLISH
BEGIN:VEVENT
UID:69ece8b03fe36
DTSTAMP:20260425T161544Z
DTSTART:20250912T160000Z
DTEND:20250912T163000Z
LOCATION:Hammond Sportsplex 6630 Indianapolis Blvd\,  Hammond\,  IN 46320
SUMMARY:Swingers Golf Simulator Ribbon Cutting
DESCRIPTION:Mayor Thomas M. McDermott\,  Jr. and the Hammond Department of 
 Parks &amp; Recreation will be cutting the ribbon this Friday on the new Sw
 ingers Golf Simulator and Lounge at the Hammond Sportsplex. The lounge has 
 a 1920’s jazz age theme that adds to the fun at the state-of-the-art golf
  simulator.[..]\nhttps://www.gohammond.com/events/swingers-golf-simulator-r
 ibbon-cutting/
URL:https://www.gohammond.com/events/swingers-golf-simulator-ribbon-cutting/
END:VEVENT
END:VCALENDAR