BEGIN:VCALENDAR
VERSION:2.0
PRODID:-//eventon.com NONSGML v1.0//EN
CALSCALE:GREGORIAN
METHOD:PUBLISH
BEGIN:VEVENT
UID:69e5e4b8675fb
DTSTAMP:20260420T083256Z
DTSTART:20250501T130000Z
DTEND:20250501T150000Z
LOCATION:Dynasty Banquets 4125 Calumet Ave\,  Hammond\,  IN 46320
SUMMARY:National Day of Prayer Breakfast
DESCRIPTION:National Day of Prayer Breakfast\nhttps://www.gohammond.com/eve
 nts/national-day-of-prayer-breakfast-2025/
URL:https://www.gohammond.com/events/national-day-of-prayer-breakfast-2025/
END:VEVENT
END:VCALENDAR