BEGIN:VCALENDAR
VERSION:2.0
PRODID:-//eventon.com NONSGML v1.0//EN
CALSCALE:GREGORIAN
METHOD:PUBLISH
BEGIN:VEVENT
UID:69ebda43d54cd
DTSTAMP:20260424T210155Z
DTSTART:20240919T160000Z
DTEND:20240919T200000Z
LOCATION:Hammond Civic Center 5825 Sohl Ave\,  Hammond\,  IN 46320
SUMMARY:20th Annual Hammond Job Fair
DESCRIPTION:The Mayor’s Office of Economic Development would like to invi
 te you to attend the 20th Annual Job Fair on Thursday\,  September 19\,  20
 24\,  from 11am to 3pm at the Hammond Civic Center\,  5825 Sohl Avenue in H
 ammond. This event is instrumental in addressing the employment needs of th
 e residents of[..]\nhttps://www.gohammond.com/events/20th-annual-hammond-jo
 b-fair/
URL:https://www.gohammond.com/events/20th-annual-hammond-job-fair/
END:VEVENT
END:VCALENDAR