BEGIN:VCALENDAR
VERSION:2.0
PRODID:-//eventon.com NONSGML v1.0//EN
CALSCALE:GREGORIAN
METHOD:PUBLISH
BEGIN:VEVENT
UID:69e5e4a19d5cf
DTSTAMP:20260420T083233Z
DTSTART:20240201T003000Z
DTEND:20240201T023000Z
LOCATION:Lost Marsh Golf Course 1001 129th St\,  Hammond\,  IN 46320
SUMMARY:Mayor’s Night Out – 1st District
DESCRIPTION:\nhttps://www.gohammond.com/events/mayors-night-out-1st-distric
 t-013124/
URL:https://www.gohammond.com/events/mayors-night-out-1st-district-013124/
END:VEVENT
END:VCALENDAR